BEGIN:VCALENDAR
VERSION:2.0
PRODID:Events Booking
BEGIN:VEVENT
UID:69e8a57f7b1ce
SUMMARY:「アート×ビジネス・アート×マーケティングの活
 用」～アートの可能性を探る～【オンラインセミナー
 】
DESCRIPTION:いま、ビジネス界が注目するアート。 
 アー
 トをマーケティングやビジネスに活用することで、ど
 のような効果が生まれるのでしょうか？ 豊富な事例を
 交えながら、わかりやすく解き明かします。 これから
 を模索するマーケターやビジネスパーソンが実践して
 いくための 刺激にあふれたシンポジウムを目指します
 。 
DTSTART:20200624T060000Z
DTEND:20200624T083000Z
DTSTAMP:20260422T193959Z
ORGANIZER;CN=公益社団法人日本マーケティング協会:MAILTO:aut
 o@jma-jp.org
END:VEVENT
END:VCALENDAR