BEGIN:VCALENDAR
VERSION:2.0
PRODID:Events Booking
BEGIN:VEVENT
UID:69e5ea4de52d1
SUMMARY:《延期します》【講義と個人ワークで学ぶ】マー
 ケティング･プランニング力　スキル＆センスアップ
 講座 《定員35名》
DESCRIPTION:《延期いたします》【講義と個人ワークで学ぶ
 】マーケティング・プランニング力スキル＆センスア
 ップ講座   
 ～企画からプレゼンテーションまでの実
 践コーチング～
 企画部門経験1年～5年目の方社内外に
 企画書作成・プレゼンテーションの機会のある方マー
 ケティング部門をはじめ、商品開発･広報･営業企画
 ･市場調査など幅広い方々のご参加をお待ちしており
 ます。
 【　講　師　】
 清野 裕司 氏　株式会社マッ
 プス 代表取締役
DTSTART:20200518T010000Z
DTEND:20200519T080000Z
DTSTAMP:20260420T175645Z
ORGANIZER;CN=公益社団法人日本マーケティング協会:MAILTO:aut
 o@jma-jp.org
END:VEVENT
END:VCALENDAR