BEGIN:VCALENDAR
VERSION:2.0
PRODID:Events Booking
BEGIN:VEVENT
UID:69e5ea175fe06
SUMMARY:≪延期致します≫ビジネス分野での「XR活用」講
 座　
DESCRIPTION: 
  
  
  
  新型コロナウイルスの影響を
 鑑み、開催を延期いたします。募集も一旦、停止させ
 ていただきます。ご了承ください。
 仮想現実感（VR)
 、拡張現実感（AR) の体験を通した講座を企画しました
 。
 XRとは「現実世界と仮想世界をを融合させた新しい
 体験」を総称した言葉です。
 XRビジネスを展開されて
 いる企業の代表者をお招きし、基本的な知識や技術的
 な違い、更にビジネスへの展開手法など、具体的な事
 例を通して学んでいただけます。
  
 参加対象：マー
 ケティング部門をはじめ、VR・ARに興味のある方。新し
 い発想に触れてみたい方。
DTSTART:20200424T060000Z
DTEND:20200424T083000Z
DTSTAMP:20260420T175551Z
ORGANIZER;CN=公益社団法人日本マーケティング協会:MAILTO:aut
 o@jma-jp.org
END:VEVENT
END:VCALENDAR