BEGIN:VCALENDAR
VERSION:2.0
PRODID:Events Booking
BEGIN:VEVENT
UID:69e5e9f8f2521
SUMMARY:※3月13日開催予定でしたが、延期になりました。
 【第226回JMAサロン】「日本の温泉文化の魅力」 延期い
 たします
DESCRIPTION:※3月13日開催予定でしたが、延期になりました
 。
  
 第226回ＪＭＡサロン（令和２年〇月〇日開催）
 では、温泉エッセイスト　山崎まゆみ氏をお迎えして
 「日本の温泉文化の魅力（仮題）」についてお話しい
 ただきます。
 新型コロナの影響で、インバウンド需
 要が減った中、GO　TO　TRAVEL等によって日本人の国内温
 泉旅行が再注目されてきました。
 世界32カ国、1000カ
 所以上の温泉に入り、その魅力を国内外に発信してい
 る山崎様よりお話しをいただくことになりました。
 
 新型コロナ感染拡大防止の観点で、昼食会・講演会の
 形式で実施させていただくことになりました。
 ＪＭ
 Ａサロンご登録の皆様のご参加をお待ち申し上げてお
 ります。
LOCATION:東京都港区虎ノ門2-10-4
DTSTART:20200313T090000Z
DTEND:20200313T113000Z
DTSTAMP:20260420T175520Z
ORGANIZER;CN=公益社団法人日本マーケティング協会:MAILTO:aut
 o@jma-jp.org
GEO:35.666924;139.743873
X-APPLE-STRUCTURED-LOCATION;VALUE=URI;X-ADDRESS=東京都港区虎ノ門2-1
 0-4;X-APPLE-RADIUS=72;X-TITLE=ホテルオークラ東京:35.666924;139.74
 3873
END:VEVENT
END:VCALENDAR