BEGIN:VCALENDAR
VERSION:2.0
PRODID:Events Booking
BEGIN:VEVENT
UID:69e8900910e5b
SUMMARY:【第224回JMAサロン】「データ・ドリブン・エコノ
 ミー」
DESCRIPTION:第224回ＪＭＡサロン（令和元年11月25日開催）
 では、
 東京大学大学院工学系研究科教授　森川　博
 之氏をお迎えして
 「データ・ドリブン・エコノミー
 」についてお話しいただきます。
 現在、インターネ
 ットに接続されたスマートフォンやセンサなどのさま
 ざまな機器が生み出す膨大なデータがあらゆる産業や
 社会を変えようしています。
 デジタル技術の進歩は
 、生産性向上から価値創造へ変化しております。
 今
 回は、IoT分野の第一人者の森川教授より、データ・ド
 リブン・エコノミーの本質についてお話しをお伺いい
 たします。
 ＪＭＡサロンご登録の皆様のご参加をお
 待ち申し上げております。
LOCATION:東京都港区虎ノ門2-10-4
DTSTART:20191125T090000Z
DTEND:20191125T113000Z
DTSTAMP:20260422T180825Z
ORGANIZER;CN=公益社団法人日本マーケティング協会:MAILTO:aut
 o@jma-jp.org
GEO:35.666924;139.743873
X-APPLE-STRUCTURED-LOCATION;VALUE=URI;X-ADDRESS=東京都港区虎ノ門2-1
 0-4;X-APPLE-RADIUS=72;X-TITLE=ホテルオークラ東京:35.666924;139.74
 3873
END:VEVENT
END:VCALENDAR