BEGIN:VCALENDAR
VERSION:2.0
PRODID:Events Booking
BEGIN:VEVENT
UID:69e8915b9f8a7
SUMMARY:【JMA九州マーケティング講演会】「令和元年を機
 に平成のメディア環境の変遷を確認する」
DESCRIPTION:メディア環境の変化について平成の30年間の変
 遷を振り返るとともに、生活行動起点でメディア行動
 の今後を改めて俯瞰します。そこには日々の編成・制
 作・営業・企画では気づくことのない大きな変化のダ
 イナミズムが存在します。スマホネイティブ世代が次
 世代を担う時代に、広告主・媒体社・広告会社はどの
 ように対応していくべきなのでしょうか？
 皆様の今
 後のマーケティング活動に参考になるお話がうかがえ
 る貴重な機会になるものと期待しております。
 多数
 のご参加をお待ちしております
LOCATION:〒810-0042 福岡県福岡市中央区赤坂１丁目16－10　 
 電通福岡ビル
DTSTART:20191121T051500Z
DTEND:20191121T064500Z
DTSTAMP:20260422T181403Z
ORGANIZER;CN=公益社団法人日本マーケティング協会:MAILTO:aut
 o@jma-jp.org
GEO:33.588907;130.38774
X-APPLE-STRUCTURED-LOCATION;VALUE=URI;X-ADDRESS=〒810-0042 福岡県福岡
 市中央区赤坂１丁目16－10　 電通福岡ビル;X-APPLE-RADIUS=72
 ;X-TITLE=九州支部:33.588907;130.38774
END:VEVENT
END:VCALENDAR