BEGIN:VCALENDAR
VERSION:2.0
PRODID:Events Booking
BEGIN:VEVENT
UID:69e88f8e2347e
SUMMARY:デジタル・マーケティングの課題を考える連続講
 演会　第５回 　
DESCRIPTION:第5回目は、元グーグル本社副社長、グーグル
 日本社長としてインターネット業界の第一線で活躍し
 続てきた村上憲郎氏を講師に招いて、参加者とともに20
 30年のデジタル社会像を考えます。
 後半はモデレータ
 ーの丸岡氏、コーディネーターの庭山氏も加わりなが
 ら、テーマを深掘りしご参加の皆様を交えて日本にお
 けるマーケティング課題を探り、デジタル・マーケテ
 ィングの推進のモーディベーションアップをすすめま
 す。
DTSTART:20191105T073000Z
DTEND:20191105T103000Z
DTSTAMP:20260422T180622Z
ORGANIZER;CN=公益社団法人日本マーケティング協会:MAILTO:aut
 o@jma-jp.org
END:VEVENT
END:VCALENDAR