BEGIN:VCALENDAR
VERSION:2.0
PRODID:Events Booking
BEGIN:VEVENT
UID:69e5e123bf379
SUMMARY:デジタル・マーケティングの課題を考える連続講
 演会　第2回 　
DESCRIPTION:デジタル・マーケティングの推進には欠かせな
 いデータ・サイエンティストの存在。全世界で人材の
 争奪戦が熱を帯びています。華やかなイメージが先行
 する一方で、データ・サイエンティストの能力の評価
 はまだ定まっていません。そもそも、データ・サイエ
 ンティストはデジタル・マーケティングの推進役とな
 り得る存在なのでしょうか？第２回目は、データビー
 クルの油野達也代表取締役社長兼CEOとともに考えます
 。
  
DTSTART:20190528T073000Z
DTEND:20190528T103000Z
DTSTAMP:20260420T171739Z
ORGANIZER;CN=公益社団法人日本マーケティング協会:MAILTO:aut
 o@jma-jp.org
END:VEVENT
END:VCALENDAR