BEGIN:VCALENDAR
VERSION:2.0
PRODID:Events Booking
BEGIN:VEVENT
UID:69e6267b05ada
SUMMARY:【オンラインお申込みの方はこちら】特別座談会
 ワールドマーケティングサミットをどう読むか
DESCRIPTION:≪オンラインお申込み専用≫
  
  
 「マー
 ケテイングでより良い世界を」の理念を掲げ現代マー
 ケテイングの父フィリップ・コトラー氏が発起人とな
 り、日本でも2014年より毎年開催されてきたワールドマ
 ーケティングサミット（WMS）。
 コロナ禍の2020年、こ
 のサミットは『ワールドマーケティングサミットオン
 ライン（eWMS）』へと変わり世界中のビジネス・プロフ
 ェッショナルのためにオンラインでお届けされます。

  今セミナーではワールドマーケティングサミットオン
 ラインの見どころ、聴きどころをさまざまな分野のマ
 ーケティング専門家をパネリストに招きそれぞれの視
 点から紹介していただきます。
DTSTART:20201111T083000Z
DTEND:20201111T103000Z
DTSTAMP:20260420T221331Z
ORGANIZER;CN=公益社団法人日本マーケティング協会:MAILTO:aut
 o@jma-jp.org
END:VEVENT
END:VCALENDAR