BEGIN:VCALENDAR
VERSION:2.0
PRODID:Events Booking
BEGIN:VEVENT
UID:69e5d4aa276d0
SUMMARY:【現地参加お申込みの方はこちら】特別座談会ワ
 ールドマーケティングサミットをどう読むか
DESCRIPTION:≪現地参加お申込み専用≫ 
  
  
 「マーケ
 テイングでより良い世界を」の理念を掲げ現代マーケ
 テイングの父フィリップ・コトラー氏が発起人となり
 、日本でも2014年より毎年開催されてきたワールドマー
 ケティングサミット（WMS）。
 コロナ禍の2020年、この
 サミットは『ワールドマーケティングサミットオンラ
 イン（eWMS）』へと変わり世界中のビジネス・プロフェ
 ッショナルのためにオンラインでお届けされます。
 
 今セミナーではワールドマーケティングサミットオン
 ラインの見どころ、聴きどころをさまざまな分野のマ
 ーケティング専門家をパネリストに招きそれぞれの視
 点から紹介していただきます。
LOCATION:日本、〒131-0044 東京都墨田区文花１丁目１８−１
 ３
DTSTART:20201111T083000Z
DTEND:20201111T103000Z
DTSTAMP:20260420T162426Z
ORGANIZER;CN=公益社団法人日本マーケティング協会:MAILTO:aut
 o@jma-jp.org
GEO:35.711464;139.823727
X-APPLE-STRUCTURED-LOCATION;VALUE=URI;X-ADDRESS=日本、〒131-0044 東京
 都墨田区文花１丁目１８−１３;X-APPLE-RADIUS=72;X-TITLE=iU情
 報経営ｲﾉﾍﾞｰｼｮﾝ専門職大学　iUホール:35.711464;1
 39.823727
END:VEVENT
END:VCALENDAR