BEGIN:VCALENDAR
VERSION:2.0
PRODID:Events Booking
BEGIN:VEVENT
UID:69e5eaa136169
SUMMARY:【JMA九州地区限定・オンライン】マーケティング
 ベーシック・コース2020
DESCRIPTION: 
  
  
  
  
 座学×ワークショップで力が
 つく！
 【本講座の目的とねらい】
 ・企業における
 マーケティングの全体像を体系的に理解
 ・マーケテ
 ィングの共通言語の基盤をつくる
 ・理論と実務の架
 け橋に
 【こんな方にお勧め！】
 ・新入社員～入社
 ２、３年目の方
 ・新しくマーケティング部門・企画
 部門に配属された方
 ・マーケティングをもう少し体
 系的に整理したいと思っている方
DTSTART:20201014T043000Z
DTEND:20201026T082000Z
DTSTAMP:20260420T175809Z
ORGANIZER;CN=公益社団法人日本マーケティング協会:MAILTO:aut
 o@jma-jp.org
END:VEVENT
END:VCALENDAR