BEGIN:VCALENDAR
VERSION:2.0
PRODID:Events Booking
BEGIN:VEVENT
UID:69e8a9a5b4ac7
SUMMARY:【北海道支部】マーケティング基礎講座　～課題
 解決のためのマーケティング・アプローチ～
DESCRIPTION:【講 演 要 旨】
 いま、経営環境の急変と同時
 に、消費者のライフスタイルに大きな変化が起こって
 います。コロナショックの広がり、巣ごもり消費、見
 えにくい購買プロセス、問われるサービス価値・・・
 先が不透明な時代、これから起こり得るさまざまな変
 動に対応できるマーケティングの思考力が求められて
 います。今回のセミナーは基本にかえって、ビジネス
 の課題解決のカギをテーマに開催します。マーケティ
 ング初心者にもわかりやすい内容で、消費者ニーズに
 ダイレクトに応えるアプローチを提示します。消費の
 現場が激しく揺れているとき、マーケティング思考に
 よって「次の一手」を発見してください。
LOCATION:日本、〒060-0001 北海道札幌市中央区北１条西２丁
 目
DTSTART:20200703T043000Z
DTEND:20200703T060000Z
DTSTAMP:20260422T195741Z
ORGANIZER;CN=公益社団法人日本マーケティング協会:MAILTO:aut
 o@jma-jp.org
GEO:43.062638;141.353921
X-APPLE-STRUCTURED-LOCATION;VALUE=URI;X-ADDRESS=日本、〒060-0001 北海
 道札幌市中央区北１条西２丁目;X-APPLE-RADIUS=72;X-TITLE=北
 海道経済センター　８階Ｂホール:43.062638;141.353921
END:VEVENT
END:VCALENDAR