BEGIN:VCALENDAR
VERSION:2.0
PRODID:Events Booking
BEGIN:VEVENT
UID:69e5eaab55b11
SUMMARY:※3月17日開催予定でしたが、延期になりました。
 【九州】春季特別セミナー「統合型マーケティング時
 代におけるKPI設計のあり方」　延期いたします。
DESCRIPTION:※3月17日開催予定でしたが、延期になりました
 。
 本セミナーでは、戦略～施策レベルまでさまざま
 なレイヤーでどのようにマーケティングの効果を測る
 べきか、ブランドの価値構造がどうなっており、各タ
 ッチポイントはどう寄与しているのか、これからの効
 果測定とそれを活かしたマーケティング戦略のあり方
 についてお話しいただきます。
  
 【講師】　㈱イン
 テグレート　代表取締役CEO　藤田　康人　氏【講義】
 １）ブランドの価値構造の捉え方２）消費者のパーセ
 プション（認識）を起点とした戦略づくりとその効果
 測定
LOCATION:〒810-0042 福岡県福岡市中央区赤坂１丁目16－10　 
 電通福岡ビル
DTSTART:20200317T043000Z
DTEND:20200317T060000Z
DTSTAMP:20260420T175819Z
ORGANIZER;CN=公益社団法人日本マーケティング協会:MAILTO:aut
 o@jma-jp.org
GEO:33.588907;130.38774
X-APPLE-STRUCTURED-LOCATION;VALUE=URI;X-ADDRESS=〒810-0042 福岡県福岡
 市中央区赤坂１丁目16－10　 電通福岡ビル;X-APPLE-RADIUS=72
 ;X-TITLE=九州支部:33.588907;130.38774
END:VEVENT
END:VCALENDAR