BEGIN:VCALENDAR
VERSION:2.0
PRODID:Events Booking
BEGIN:VEVENT
UID:69e5ead94267e
SUMMARY:【九州】「テレビメタデータ × 視聴＆位置情報デ
 ータでのエリアマーケティング」
DESCRIPTION:テレビ広告価値の可視化を推進する国内最大手
 の調査会社「インテージ」の深田航志氏、そして「TVメ
 タデータ」の生成・配信、調査・分析を通し、マーケ
 ティング活動をサポートする「エム・データ」の西尾
 真樹氏のお二人です。「テレビメタデータ × 視聴＆位
 置情報データでのエリアマーケティング」をテーマに
 、九州で活用できる新たなテレビマーケティングの可
 能性について、具体的なデータなども用いてご講演い
 ただきます。《講師》◆深田航志氏株式会社インテー
 ジ　コミュニケーション事業本部 CD2部　テレビ戦略担
 当　リーダー◆西尾真樹氏株式会社エム・データ 　テ
 レビデータ マーケティング部　アカウントマネージャ
 ー
LOCATION:〒810-0042 福岡県福岡市中央区赤坂１丁目16－10　 
 電通福岡ビル
DTSTART:20200226T043000Z
DTEND:20200226T060000Z
DTSTAMP:20260420T175905Z
ORGANIZER;CN=公益社団法人日本マーケティング協会:MAILTO:aut
 o@jma-jp.org
GEO:33.588907;130.38774
X-APPLE-STRUCTURED-LOCATION;VALUE=URI;X-ADDRESS=〒810-0042 福岡県福岡
 市中央区赤坂１丁目16－10　 電通福岡ビル;X-APPLE-RADIUS=72
 ;X-TITLE=九州支部:33.588907;130.38774
END:VEVENT
END:VCALENDAR