BEGIN:VCALENDAR
VERSION:2.0
PRODID:Events Booking
BEGIN:VEVENT
UID:69e5ead942747
SUMMARY:【北海道】第4回デジタルマーケティング実践講座
DESCRIPTION:●プログラム《全4回》
 第１回：Instagram：ブ
 ランディング目的での活用方法　井福　裕之氏第２回
 ：若者に刺さるプロモーションの正体　高野　修平氏
 第３回：ソーシャルリスニング講座　～消費者の声を
 次の一手に～　井福　裕之氏第４回：ソーシャルメデ
 ィアで売上をつくるプロモーションとは？　高野　修
 平氏
LOCATION:札幌市中央区大通西5丁目11-1 電通恒産札幌ビル
DTSTART:20200221T043000Z
DTEND:20200313T080000Z
DTSTAMP:20260420T175905Z
ORGANIZER;CN=公益社団法人日本マーケティング協会:MAILTO:aut
 o@jma-jp.org
GEO:43.060903;141.349675
X-APPLE-STRUCTURED-LOCATION;VALUE=URI;X-ADDRESS=札幌市中央区大通西
 5丁目11-1 電通恒産札幌ビル;X-APPLE-RADIUS=72;X-TITLE=電通恒
 産札幌ビル９階ホール:43.060903;141.349675
END:VEVENT
END:VCALENDAR