BEGIN:VCALENDAR
VERSION:2.0
PRODID:Events Booking
BEGIN:VEVENT
UID:69e8a5ad27aaf
SUMMARY:「アメリカの最先端BtoBマーケティング　～今、Bto
 Bで有効な戦略とは？～」
DESCRIPTION:今回のセミナーではニューヨークのBtoBマーケ
 ティングシーンの最先端で活躍されている著名コンサ
 ルタントのルース・スティーブンスさんをお呼びして
 、今、アメリカのBtoBマーケティングで何が起きている
 かをお話いただきます。また、日本でのBtoBマーケティ
 ング先駆者として知られるシンフォニーマーケティン
 グ代表取締役で中央大学ビジネススクール客員教授の
 庭山一郎さんも登壇して、BtoBマーケティングのオーバ
 ービューをお話いただきます。さらに、著作『ブラン
 ド戦略論』で知られる田中洋氏（教授）をコーディネ
 ーターとして、三者のクロストークも企画しています
 。
LOCATION: 東京都文京区春日１丁目１３−２７
DTSTART:20191121T060000Z
DTEND:20191121T083000Z
DTSTAMP:20260422T194045Z
ORGANIZER;CN=公益社団法人日本マーケティング協会:MAILTO:aut
 o@jma-jp.org
GEO:35.709072;139.748168
X-APPLE-STRUCTURED-LOCATION;VALUE=URI;X-ADDRESS= 東京都文京区春日
 １丁目１３−２７;X-APPLE-RADIUS=72;X-TITLE=中央大学ビジネ
 ススクール:35.709072;139.748168
END:VEVENT
END:VCALENDAR