BEGIN:VCALENDAR
VERSION:2.0
PRODID:Events Booking
BEGIN:VEVENT
UID:69e88f8e9e18c
SUMMARY:【パナソニックが語る】ブランド生態系フォーラ
 ム 第1回
DESCRIPTION:本セミナーでは、「ブランド生態調査」を背景
 に、そこで生き生きと繁っているブランドの関係者を
 お招きして直にその舞台裏をお伺いします。
 第1回は
 、2008年のブランド統一を経て本来の家電だけでなく住
 まい、生活雑貨、美容・健康など領域をまたがって熱
 い支持顧客を育ててきた「パナソニック」ブランドの
 国内家電の総監督、中島幸男さんをお招きします。
  
 
 《講師》
 片平 秀貴         丸の内ブランドフォ
 ーラム
 中島 幸男氏　パナソニック株式会社
DTSTART:20191030T060000Z
DTEND:20191030T083000Z
DTSTAMP:20260422T180622Z
ORGANIZER;CN=公益社団法人日本マーケティング協会:MAILTO:aut
 o@jma-jp.org
END:VEVENT
END:VCALENDAR