BEGIN:VCALENDAR
VERSION:2.0
PRODID:Events Booking
BEGIN:VEVENT
UID:69e5e08c819d9
SUMMARY:【関西例会】電通CDCプランナー尾上永晃氏が語る
 「行動広告学」
DESCRIPTION: 
  
  
  
  
 【「行動広告学」～人は何
 を話題にしたがるのか～】
 今回のＪＭＡ関西例会は
 日本ＡＢＣ協会東京フォーラム2019において講演され、
 大変好評でありました電通ＣＤＣプランナー尾上永晃
 氏をお招きして、デジタルによって拡散手段が増えた
 今日、どのようなメッセージが人の心にぐっとくるの
 かを語って頂きます。
LOCATION:日本、〒530-0005 大阪府大阪市北区中之島６丁目２
 −27 中之島センタービル２９階
DTSTART:20190625T063000Z
DTEND:20190625T080000Z
DTSTAMP:20260420T171508Z
ORGANIZER;CN=公益社団法人日本マーケティング協会:MAILTO:aut
 o@jma-jp.org
GEO:34.687041;135.484322
X-APPLE-STRUCTURED-LOCATION;VALUE=URI;X-ADDRESS=日本、〒530-0005 大阪
 府大阪市北区中之島６丁目２−27 中之島センタービル
 ２９階;X-APPLE-RADIUS=72;X-TITLE=公益社団法人　関西経済連
 合会　２９４会議室:34.687041;135.484322
END:VEVENT
END:VCALENDAR