BEGIN:VCALENDAR
VERSION:2.0
PRODID:Events Booking
BEGIN:VEVENT
UID:69e88f8d980cf
SUMMARY:【第221回JMAサロン】「新しい1キログラムの測り方
 」
DESCRIPTION:第221回ＪＭＡサロン（2019年5月22日開催）では
 、国立研究開発法人　産業技術総合研究所 計量標準総
 合センター長　国際度量衡委員  臼田　孝 氏をお迎え
 して「新しい1キログラムの測り方」についてお話しい
 ただきます。
 2019年5月20日、質量の単位の定義が130年
 ぶりに変わります。
 いままでは「国際キログラム原
 器」が基準として合金でつくられた物体として存在し
 ておりました。
 しかしながら原器は、長い歳月の中
 で変化してきました。
 そこで、キログラムの定義を
 プランク定数に基づく定義に変更されます。それを基
 に新しい素材で原器を作成することになりました。こ
 の定義を決める世界の18名の国際度量衡委員であり長年
 、計量分野のご専門家であります臼田氏より、じっく
 りお話しをお伺いいたします。
 ＪＭＡサロンご登録
 の皆様のご参加をお待ち申し上げております。
LOCATION:東京都港区虎ノ門2-10-4
DTSTART:20190522T090000Z
DTEND:20190522T113000Z
DTSTAMP:20260422T180621Z
ORGANIZER;CN=公益社団法人日本マーケティング協会:MAILTO:aut
 o@jma-jp.org
GEO:35.666924;139.743873
X-APPLE-STRUCTURED-LOCATION;VALUE=URI;X-ADDRESS=東京都港区虎ノ門2-1
 0-4;X-APPLE-RADIUS=72;X-TITLE=ホテルオークラ東京:35.666924;139.74
 3873
END:VEVENT
END:VCALENDAR