BEGIN:VCALENDAR
VERSION:2.0
PRODID:Events Booking
BEGIN:VEVENT
UID:69e5e3b257825
SUMMARY:【第220回JMAサロン】「楽天市場のビックデータを
 活用した新たなデータマーケティング」
DESCRIPTION:第220回ＪＭＡサロン（平成31年3月14日開催）で
 は、楽天株式会社 副社長執行役員 メディア＆スポーツ
 カンパニー プレジデント  有馬  誠 氏をお迎えして「
 楽天市場のビックデータを活用した新たなデータマー
 ケティング」についてお話しいただきます。
 2017年7月
 に創設された楽天データマーケティングは、「テレビ
 」「Web（オンライン）」「店舗（オフライン）」のデ
 ータをつなげて、広告の効果測定を計ることが出来る
 ようになりました。それにより、広告主に対して、マ
 ーケティング費用の全体最適化への施策について、デ
 ータを提供することが可能になってきました。 日本に
 おいて、長年、インターネット・ビジネスに携わって
 おりました有馬氏より楽天市場のビックデータを活用
 したデータマーケティングの拡がりについて、じっく
 りお話しをお伺いいたします。
 ＪＭＡサロンご登録
 の皆様のご参加をお待ち申し上げております。
LOCATION:東京都港区虎ノ門2-10-4
DTSTART:20190314T090000Z
DTEND:20190314T113000Z
DTSTAMP:20260420T172834Z
ORGANIZER;CN=公益社団法人日本マーケティング協会:MAILTO:aut
 o@jma-jp.org
GEO:35.666924;139.743873
X-APPLE-STRUCTURED-LOCATION;VALUE=URI;X-ADDRESS=東京都港区虎ノ門2-1
 0-4;X-APPLE-RADIUS=72;X-TITLE=ホテルオークラ東京:35.666924;139.74
 3873
END:VEVENT
END:VCALENDAR