BEGIN:VCALENDAR
VERSION:2.0
PRODID:Events Booking
BEGIN:VEVENT
UID:69e5e68becdd5
SUMMARY:【会員無料！】JMA会員限定メンバーズプログラム
 ・サントリーホールバックステージツアー
DESCRIPTION:大好評！JMAメンバーズプログラム！
 今回は、
 サントリーホールの講演会＆バックステージツアーを
 開催いたします。会員社の方は無料でご参加いただけ
 ます！お申込みはお早めに！
LOCATION:日本、〒107-0052 東京都港区赤坂１丁目１３−１
DTSTART:20190207T013000Z
DTEND:20190207T033000Z
DTSTAMP:20260420T174043Z
ORGANIZER;CN=公益社団法人日本マーケティング協会:MAILTO:aut
 o@jma-jp.org
GEO:35.666633;139.741397
X-APPLE-STRUCTURED-LOCATION;VALUE=URI;X-ADDRESS=日本、〒107-0052 東京
 都港区赤坂１丁目１３−１;X-APPLE-RADIUS=72;X-TITLE=サント
 リーホール:35.666633;139.741397
END:VEVENT
END:VCALENDAR