BEGIN:VCALENDAR
VERSION:2.0
PRODID:Events Booking
BEGIN:VEVENT
UID:69e5e6e3e9142
SUMMARY:『Tap スマホで買ってしまう9つの理由』～スマホ
 が変えたマーケティング～
DESCRIPTION:デジタル化の進展・深化により、マーケティン
 グを取り巻く環境も著しい変化を遂げています。中で
 もモバイル・マーケティングは現在、最も注目される
 手法の一つです。
 今回のシンポジウムでは気鋭の経
 済学者、ニューヨーク大学アニンディヤ・ゴーシュ教
 授が10年の調査研究と世界の最新事例をもとに消費者行
 動を徹底分析した内容を講演致します。状況、場所、
 時間、天気、混雑度、露出など購買行動を決定づける
 のは「９つのちから」です。同時に、日本でいかに応
 用できるかについて慶應義塾大学清水聰教授と討論い
 ただきます。
 昨年来５回目となる日経広告研究所･
 ＪＭＡ共催で開催致します。是非ともご参加下さい。
DTSTART:20190131T010000Z
DTEND:20190131T033000Z
DTSTAMP:20260420T174211Z
ORGANIZER;CN=公益社団法人日本マーケティング協会:MAILTO:aut
 o@jma-jp.org
END:VEVENT
END:VCALENDAR