BEGIN:VCALENDAR
VERSION:2.0
PRODID:Events Booking
BEGIN:VEVENT
UID:69e5e7033887f
SUMMARY:【九州】‟営業力‟ワンデイスキルアップ
DESCRIPTION:いまは、AI（人工知能）、IoTがにわかにビジネ
 スシーンに急浮上してきたデジタル革命前夜。時代が
 大きく変わることは確実でしょう。そのような時代の
 変化を前に、これまでの営業スタイルのままでいいの
 でしょうか？HBR（ハーバード・ビジネス・レビュー）20
 12年７・８月号に「ソリューション営業は終わったThe En
 d of Solution Sales」が掲載されて5年が過ぎました。それと
 前後するように、マーケティングや競争戦略に「課題
 設定力」が求められるようになりました。営業にも「
 課題設定」の観点から見直しや変革が求められている
 のではないでしょうか。
 本講座が対象とするのは、
 さらなる営業の進化、革新を目指す方々です。完成形
 はないはず。営業の現状を点検し、新たな営業の可能
 性を探る学びの場を本セミナーは提供します。
LOCATION:〒810-0042 福岡県福岡市中央区赤坂１丁目16－10　 
 電通福岡ビル
DTSTART:20190124T010000Z
DTEND:20190124T093000Z
DTSTAMP:20260420T174243Z
ORGANIZER;CN=公益社団法人日本マーケティング協会:MAILTO:aut
 o@jma-jp.org
GEO:33.588907;130.38774
X-APPLE-STRUCTURED-LOCATION;VALUE=URI;X-ADDRESS=〒810-0042 福岡県福岡
 市中央区赤坂１丁目16－10　 電通福岡ビル;X-APPLE-RADIUS=72
 ;X-TITLE=九州支部:33.588907;130.38774
END:VEVENT
END:VCALENDAR