BEGIN:VCALENDAR
VERSION:2.0
PRODID:Events Booking
BEGIN:VEVENT
UID:69e5e6e32dc16
SUMMARY:【第219回JMAサロン】「日本男子100ｍ×4リレーの強
 さの理由」
DESCRIPTION:第219回ＪＭＡサロン（平成31年1月22日開催）で
 は、日本陸上競技連盟　強化委員長　麻場　一徳氏を
 お迎えして「日本男子100ｍ×4リレーの強さの理由」に
 ついてお話しいただきます。
 日本男子100ｍ×4リレー
 が近年著しく強化され、2016年のリオ五輪では銀メダル
 、2018年ジャカルタ・アジア大会では、金メダルという
 快挙が生まれました。日本選手は、個人短距離走のタ
 イムでは、外国選手に劣っていますが、団体種目とし
 てのリレーでは、バトン受け渡し等の技術で優位に立
 ってきました。日本において、長年短距離走の技術指
 導をおこなっている麻場教授より、じっくりお話しを
 お伺いいたします。
 ＪＭＡサロンご登録の皆様のご
 参加をお待ち申し上げております。
LOCATION:東京都港区虎ノ門2-10-4
DTSTART:20190122T090000Z
DTEND:20190122T113000Z
DTSTAMP:20260420T174211Z
ORGANIZER;CN=公益社団法人日本マーケティング協会:MAILTO:aut
 o@jma-jp.org
GEO:35.666924;139.743873
X-APPLE-STRUCTURED-LOCATION;VALUE=URI;X-ADDRESS=東京都港区虎ノ門2-1
 0-4;X-APPLE-RADIUS=72;X-TITLE=ホテルオークラ東京:35.666924;139.74
 3873
END:VEVENT
END:VCALENDAR