BEGIN:VCALENDAR
VERSION:2.0
PRODID:Events Booking
BEGIN:VEVENT
UID:69e61b3de183f
SUMMARY:【九州秋季特別セミナー】「顧客視点でのマーケ
 ティングを実現する方程式」 ～パーセプション（認識
 ）発想で成功をつかむ！～
DESCRIPTION: 
  
  
  
  
 顧客を次の購買に導くスト
 ーリーづくりの最適な手法を最新の事例を踏まえて解
 説していただきます。皆様の今後のマーケティング活
 動に参考になるお話がうかがえる貴重な機会になるも
 のと期待しております。多数のご参加をお待ちしてお
 ります。
LOCATION:〒810-0042 福岡県福岡市中央区赤坂１丁目16－10　 
 電通福岡ビル
DTSTART:20181025T043000Z
DTEND:20181025T060000Z
DTSTAMP:20260420T212533Z
ORGANIZER;CN=公益社団法人日本マーケティング協会:MAILTO:aut
 o@jma-jp.org
GEO:33.588907;130.38774
X-APPLE-STRUCTURED-LOCATION;VALUE=URI;X-ADDRESS=〒810-0042 福岡県福岡
 市中央区赤坂１丁目16－10　 電通福岡ビル;X-APPLE-RADIUS=72
 ;X-TITLE=九州支部:33.588907;130.38774
END:VEVENT
END:VCALENDAR