BEGIN:VCALENDAR
VERSION:2.0
PRODID:Events Booking
BEGIN:VEVENT
UID:69e5e6b85a7a0
SUMMARY:【北海道支部】マーケティングアカデミー2018≪プ
 ロジェクトリーダー養成講座≫
DESCRIPTION: 
  
  
 ●本講座は、「ケースメソッド」に
 より企業が実際に直面した経営課題を事例研究いたし
 ます。受講生のみなさまが互いに考えを討議しながら
 解決策を見出していく「ゼミ形式」のセミナーです。
 ●受講者同士によるディスカッション、演習に重点を
 置いています。「分析力」「立案力」等の実践的なス
 キルを養成し、皆さまの業務に活用していただくこと
 を狙いとしています。
DTSTART:20181017T060000Z
DTEND:20181204T090000Z
DTSTAMP:20260420T174128Z
ORGANIZER;CN=公益社団法人日本マーケティング協会:MAILTO:aut
 o@jma-jp.org
END:VEVENT
END:VCALENDAR