BEGIN:VCALENDAR
VERSION:2.0
PRODID:Events Booking
BEGIN:VEVENT
UID:69e5e35fe0f6b
SUMMARY:【関西】大好評！JMA関西メンバーズセミナー【会
 員無料！】
DESCRIPTION:【すべてのビジネスパーソンに役立つ、マーケ
 ティングの基礎講座　決定版！】
  
  
  ！大好評
 につき秋季も開催いたします！
 本セミナーは、初め
 てマーケティングに触れる方が
 その面白さを実感で
 きる、会員交流会を兼ねた
 JMAのメンバーズプログラ
 ムです。
  
 講師：公益社団法人日本マーケティング
 協会
 　　　　　　　　　　　　　客員研究員　　竹
 中　雄三
  
 【※満員御礼につき申込は締め切りまし
 た※】
LOCATION:〒530-0005 大阪市北区中之島6丁目2－27　中之島セ
 ンタービル31階
DTSTART:20181016T053000Z
DTEND:20181016T080000Z
DTSTAMP:20260420T172711Z
ORGANIZER;CN=公益社団法人日本マーケティング協会:MAILTO:aut
 o@jma-jp.org
GEO:34.687041;135.484322
X-APPLE-STRUCTURED-LOCATION;VALUE=URI;X-ADDRESS=〒530-0005 大阪市北区
 中之島6丁目2－27　中之島センタービル31階;X-APPLE-RADIUS=7
 2;X-TITLE=関西支部:34.687041;135.484322
END:VEVENT
END:VCALENDAR