BEGIN:VCALENDAR
VERSION:2.0
PRODID:Events Booking
BEGIN:VEVENT
UID:69e5dfc2576f6
SUMMARY:JMA関西例会：予防医学研究者　石川善樹博士が語
 る 「人がよりよく生きるためには」
DESCRIPTION:予防医学とは　健康＝「完全に調和された状態
 」から逸脱するのを予防する研究であり、それは朝わ
 くわくして目が覚め、夜満ち足りた気持ちでベッドに
 入ることが健康な人です。今や100歳まで生きることを
 大前提として人生設計を考える時代において、その人
 生は一人一人自分自身で見つけることが必要となって
 おります。人がよりよく生きるとは何か、企業人とし
 てどう働いていくか、キャリア設計をどう築いていく
 か、そして、人生100年時代をターゲットとしたマーケ
 ティングやビジネスをどう組み立てていくかのヒント
 をこの講演で是非掴んでください。
LOCATION:日本、〒530-0005 大阪府大阪市北区中之島６丁目２
 −27 中之島センタービル２９階
DTSTART:20180918T063000Z
DTEND:20180918T080000Z
DTSTAMP:20260420T171146Z
ORGANIZER;CN=公益社団法人日本マーケティング協会:MAILTO:aut
 o@jma-jp.org
GEO:34.687041;135.484322
X-APPLE-STRUCTURED-LOCATION;VALUE=URI;X-ADDRESS=日本、〒530-0005 大阪
 府大阪市北区中之島６丁目２−27 中之島センタービル
 ２９階;X-APPLE-RADIUS=72;X-TITLE=公益社団法人　関西経済連
 合会　２９４会議室:34.687041;135.484322
END:VEVENT
END:VCALENDAR