BEGIN:VCALENDAR
VERSION:2.0
PRODID:Events Booking
BEGIN:VEVENT
UID:69e88f7a7197e
SUMMARY:【実例ケースから学ぶ】「収益化」のためのデー
 タ活用実践講座
DESCRIPTION: 
  
  
  
  
 【データ分析を任されてい
 るが思うような成果がでていないそんな方にお勧め！
 】
 本講座は、豊富な経験を持つビジネス・コンサル
 タントが、データ活用における要点について解説を行
 い、データ分析結果をいかにして「実践的な施策」ま
 で落としこみ、「売上・利益」につなげるかについて
 、参加者とディスカッションを行い、理解を深めてい
 く講座です。
DTSTART:20180907T060000Z
DTEND:20180907T080000Z
DTSTAMP:20260422T180602Z
ORGANIZER;CN=公益社団法人日本マーケティング協会:MAILTO:aut
 o@jma-jp.org
END:VEVENT
END:VCALENDAR