BEGIN:VCALENDAR
VERSION:2.0
PRODID:Events Booking
BEGIN:VEVENT
UID:69e88f8d9860e
SUMMARY:【ＪＭＡ北海道】「広報・ＰＲ発想でつくる売れ
 続ける仕組み」
DESCRIPTION: 
  
  
  
  
 
 
 
 
 ・マーケティング
 はストーリー(文脈)発想の時代へ
 ・パーセプション(
 認識)チェンジが起こせるプランニングとは？
 ・黄金
 文脈を見つけよう
 ・文脈を“世の中ごと”化する
 
 ・情報接点の特性に合わせたコンテンツをつくる
 
 

  
 
 【　講　師　】
 藤田　康人氏　株式会社インテ
 グレート 代表取締役CEO
  ※定員に達しましたが、若
 干名のご参加をお受けしますので、参加を希望される
 方は、お申込みをお急ぎ下さい。
LOCATION:〒060-0042 札幌市中央区大通西5丁目11－1　電通恒
 産札幌ビル
DTSTART:20180516T043000Z
DTEND:20180516T060000Z
DTSTAMP:20260422T180621Z
ORGANIZER;CN=公益社団法人日本マーケティング協会:MAILTO:aut
 o@jma-jp.org
GEO:43.060903;141.349675
X-APPLE-STRUCTURED-LOCATION;VALUE=URI;X-ADDRESS=〒060-0042 札幌市中央
 区大通西5丁目11－1　電通恒産札幌ビル;X-APPLE-RADIUS=72;X-T
 ITLE=北海道支部:43.060903;141.349675
END:VEVENT
END:VCALENDAR