BEGIN:VCALENDAR
VERSION:2.0
PRODID:Events Booking
BEGIN:VEVENT
UID:69e88f79ec2a7
SUMMARY:スマートフォン時代のマーケティングを考える  
 ～マーケティング4.0 成功のための究極法則～
DESCRIPTION:【本セミナーで学ぶこと】　本セミナーでは、
 『コトラーのマーケティング4.0』の翻訳者で日本を代
 表するマーケティング研究者の恩藏直人教授を講師に
 迎え、この新しいマーケティング概念について解説し
 て頂きます。後半は、デジタル・マーケティングのエ
 キスパート３名をパネリストに加えて、「カスタマー
 ・ジャーニー」や「コンテンツ・マーケティング」、
 「オムニチャネル」など、デジタル・マーケティング
 の実践に欠かせない課題について議論します。
DTSTART:20180419T070000Z
DTEND:20180419T100000Z
DTSTAMP:20260422T180601Z
ORGANIZER;CN=公益社団法人日本マーケティング協会:MAILTO:aut
 o@jma-jp.org
END:VEVENT
END:VCALENDAR