BEGIN:VCALENDAR
VERSION:2.0
PRODID:Events Booking
BEGIN:VEVENT
UID:69e5e6b85af62
SUMMARY:【会員無料！】『成功するマーケティングの基本
 と実践』から読み解くマーケティング超入門講座
DESCRIPTION:【すべてのビジネスパーソンに役立つ、マーケ
 ティングの基礎講座　決定版！】
  
  
 本セミナー
 は、初めてマーケティングに触れる方が
 その面白さ
 を実感できる、会員交流会を兼ねた
 JMAのメンバーズ
 プログラムです。
  
 講師：公益社団法人日本マーケ
 ティング協会
 　　　　　　　　　　　　　客員研究
 員　　竹中　雄三
  
 【※満員御礼につき申込は締め
 切りました※】
  
DTSTART:20180402T070000Z
DTEND:20180402T093000Z
DTSTAMP:20260420T174128Z
ORGANIZER;CN=公益社団法人日本マーケティング協会:MAILTO:aut
 o@jma-jp.org
END:VEVENT
END:VCALENDAR