BEGIN:VCALENDAR
VERSION:2.0
PRODID:Events Booking
BEGIN:VEVENT
UID:69e5e6f2f2f54
SUMMARY:【九州】JMA九州春季マーケティング講演会「実務
 におけるAI活用の期待・実態・未来」
DESCRIPTION:昨今、雑誌やニュースなど様々なメディア賑わ
 しているAI(人工知能)。
 今後AIはマーケティングやCRM
 のあり方を大きく変える可能性があるとも言われてい
 る一方で、AIのその真の実力については、これまで十分
 な議論がされてきませんでした。そこで、本講演ではAI
 が、マーケティングやカスタマーサポートの現場にも
 たらす影響を、先進事例・技術なども交えながら語っ
 ていただきます。
 ≪講師≫
 
 
 
 
 ㈱野村総合研
 究所
 ビッグデータイノベーション推進部
 AIナビゲー
 ション推進グループ
 上級研究員　神田　晴彦　氏
 

  
 
 
LOCATION:〒810-0042 福岡県福岡市中央区赤坂１丁目16－10　 
 電通福岡ビル
DTSTART:20180323T043000Z
DTEND:20180323T060000Z
DTSTAMP:20260420T174226Z
ORGANIZER;CN=公益社団法人日本マーケティング協会:MAILTO:aut
 o@jma-jp.org
GEO:33.588907;130.38774
X-APPLE-STRUCTURED-LOCATION;VALUE=URI;X-ADDRESS=〒810-0042 福岡県福岡
 市中央区赤坂１丁目16－10　 電通福岡ビル;X-APPLE-RADIUS=72
 ;X-TITLE=九州支部:33.588907;130.38774
END:VEVENT
END:VCALENDAR