BEGIN:VCALENDAR
VERSION:2.0
PRODID:Events Booking
BEGIN:VEVENT
UID:69e5e01ad3f9b
SUMMARY:【北海道】未来潮流2018-2030 and beyond～社会と生活
 のこれからを知るためのキーワード～
DESCRIPTION: 
  
  
  
  
 【　講演内容　】
 1.　2017
 年はどのような年だったのか
 2.　日本の課題と社会の
 変化
 3.　テクノロジーや社会制度の変化が示す人々の
 変化
 4.　今までの内容を踏まえて、これからの北海道
 を考えていくヒントをいくつかご提案します。
 【　
 講　師　】
 株式会社電通 マーケティングソリューシ
 ョン局
 シニア・マーケティング・マネージャー　松
 本　泰明　氏
LOCATION:〒060-0042 札幌市中央区大通西5丁目11－1　電通恒
 産札幌ビル
DTSTART:20180320T043000Z
DTEND:20180320T060000Z
DTSTAMP:20260420T171314Z
ORGANIZER;CN=公益社団法人日本マーケティング協会:MAILTO:aut
 o@jma-jp.org
GEO:43.060903;141.349675
X-APPLE-STRUCTURED-LOCATION;VALUE=URI;X-ADDRESS=〒060-0042 札幌市中央
 区大通西5丁目11－1　電通恒産札幌ビル;X-APPLE-RADIUS=72;X-T
 ITLE=北海道支部:43.060903;141.349675
END:VEVENT
END:VCALENDAR