BEGIN:VCALENDAR
VERSION:2.0
PRODID:Events Booking
BEGIN:VEVENT
UID:69e5e3e9bbb1b
SUMMARY:新春特別講演会「ゲーム・チェンジャーの時代と 
 2018年のマーケティングを展望する」
DESCRIPTION:企業の競争環境は、従来と大きく変化していま
 す。これまでのような ”同じ業界の企業と同じルール
 で戦う” 時代から、”異なる業界の企業と異なるルー
 ルで戦う” ことが多い時代に突入しています。まさに
 異種格闘技にも似た戦いに、多くの企業が直面してい
 ます。では、2018年はどのような異業種競争が繰り広げ
 られ、どの企業が勝者になり、どの企業が衰退の道を
 辿るのでしょうか？自らビジネス・コンサルタントと
 して輝かしい実績を持ち、現在ビジネススクールで次
 世代のビジネスリーダーの育成に注力している内田和
 成教授にお話し頂きます。なお、記念講演終了後、会
 員相互の名刺交換を目的とした懇親パーティーもござ
 います。
DTSTART:20180122T061000Z
DTEND:20180122T083000Z
DTSTAMP:20260420T172929Z
ORGANIZER;CN=公益社団法人日本マーケティング協会:MAILTO:aut
 o@jma-jp.org
END:VEVENT
END:VCALENDAR