BEGIN:VCALENDAR
VERSION:2.0
PRODID:Events Booking
BEGIN:VEVENT
UID:69e5e1368ed24
SUMMARY:音声インターフェースの台頭 ～AIスピーカーで生
 活はどう変わるのか～
DESCRIPTION:インターネットの登場以降、20数年間で変わっ
 てきたメディア環境は、今、次の大きな変化の「潮目
 」を迎えつつある。デジタルシフト、モバイルシフト
 の次の変容をひきおこす新しいテクノロジーは、2017年
 になり様々なデバイスやサービスとなって具現化しは
 じめた。現在、世界的に最も注目されているのは、「
 スマートスピーカー/AIスピーカー」と呼ばれているカ
 テゴリの新製品である。
 新しく台頭する音声インタ
 ーフェースの世界では、音声コマンドで様々なコンテ
 ンツをコントロールすることができる。「今朝のニュ
 ースを聞かせて」「あのアーティストの曲をかけて」
 「昨晩の試合の結果を教えて」と語りかけるだけで、
 音声アシスタントから、情報がフィードバックされる
 のだ。
LOCATION:〒530-0005 大阪市北区中之島6丁目2－27　中之島セ
 ンタービル31階
DTSTART:20170828T063000Z
DTEND:20170828T080000Z
DTSTAMP:20260420T171758Z
ORGANIZER;CN=公益社団法人日本マーケティング協会:MAILTO:aut
 o@jma-jp.org
GEO:34.687041;135.484322
X-APPLE-STRUCTURED-LOCATION;VALUE=URI;X-ADDRESS=〒530-0005 大阪市北区
 中之島6丁目2－27　中之島センタービル31階;X-APPLE-RADIUS=7
 2;X-TITLE=関西支部:34.687041;135.484322
END:VEVENT
END:VCALENDAR