BEGIN:VCALENDAR
VERSION:2.0
PRODID:Events Booking
BEGIN:VEVENT
UID:69e5e9c3f0f86
SUMMARY:「inochi WAKAZO Project」の活動事例【第200回JMA例会】
DESCRIPTION:いのちの大切さと未来について考え、行動する
 （一社）inochi未来プロジェクト（理事長　澤芳樹大阪
 大学医学部教授）の学生支部であるinochi WAKAZO Projectは
 「若者の力でいのちを守る社会を創る」をミッション
 に医療系学生を中心に活動する団体。2018年BIE総会で日
 本代表団の一員としてWAKAZOメンバーが招致プレゼンを
 実施。
 2025年の万博開催を契機に献血のように「誰か
 のいのちを守る」想いからヘルスケアデータの提供と
 解析を通じ、若者の手で「いのちを守り合う循環」が
 生まれる未来創りを目指す活動内容をご紹介します。
DTSTART:20211129T063000Z
DTEND:20211129T080000Z
DTSTAMP:20260420T175427Z
ORGANIZER;CN=公益社団法人日本マーケティング協会:MAILTO:aut
 o@jma-jp.org
END:VEVENT
END:VCALENDAR