BEGIN:VCALENDAR
VERSION:2.0
PRODID:Events Booking
BEGIN:VEVENT
UID:69e5e2e02af20
SUMMARY:JMA九州新春特別セミナー 「メディア生活の今とこ
 れから」 ～生活者の“情報ストラテジー”と“アシス
 タンスメディア”の台頭～
DESCRIPTION:我々を取り囲む情報は増大の一途をたどり、も
 はやその総量を把握することも難しい情報カオス時代
 を迎えています。そのような状況の中、メディア生活
 の現在の最前線の姿と、ＡＩやＩｏＴによって実現さ
 れるであろうこれからのメディア生活の将来像の両方
 についてお話しいたします。
 【講師】
 株式会社博
 報堂ＤＹメディアパートナーズメディア環境研究所　
 　所長　吉川　昌孝　氏
LOCATION:〒810-0042 福岡県福岡市中央区赤坂１丁目16－10　 
 電通福岡ビル
DTSTART:20180125T043000Z
DTEND:20180125T060000Z
DTSTAMP:20260420T172504Z
ORGANIZER;CN=公益社団法人日本マーケティング協会:MAILTO:aut
 o@jma-jp.org
GEO:33.588907;130.38774
X-APPLE-STRUCTURED-LOCATION;VALUE=URI;X-ADDRESS=〒810-0042 福岡県福岡
 市中央区赤坂１丁目16－10　 電通福岡ビル;X-APPLE-RADIUS=72
 ;X-TITLE=九州支部:33.588907;130.38774
END:VEVENT
END:VCALENDAR