BEGIN:VCALENDAR
VERSION:2.0
PRODID:Events Booking
BEGIN:VEVENT
UID:69e5eac4cc190
SUMMARY:【6回シリーズ】ブランド生態系フォーラム
DESCRIPTION:ブランド生態系フォーラムについて
 ブランド
 は、人々の脳細胞を「土壌」としてその上に育つ「樹
 木」のようなもの。樹木とその他の生物が生態系を構
 成しているのと同じようにブランドも生活者の土壌と
 の相性により群生し、生態系を構成する、というのが
 本フォーラムの前提となる考え方です。
 このフォー
 ラムでは企業等のブラント担当者にご登場いただき、6
 回にわたり講演企業等におけるブランドと生活者の関
 わり方、そのためのブランドづくりの実践方法につい
 て学びます。
  
 《ファシリテーター》
 片平 秀貴 
 　　丸の内ブランドフォーラム
DTSTART:20201202T080000Z
DTEND:20210331T100000Z
DTSTAMP:20260420T175844Z
ORGANIZER;CN=公益社団法人日本マーケティング協会:MAILTO:aut
 o@jma-jp.org
END:VEVENT
END:VCALENDAR