BEGIN:VCALENDAR
VERSION:2.0
PRODID:Events Booking
BEGIN:VEVENT
UID:69e88fdb579b7
SUMMARY:【ブランド生態系フォーラム】David Aaker「今、ブ
 ランドにとって大切なこと」
DESCRIPTION:ブランディング論の大家であるDavid Aaker教授、
 皆さんが現場で抱いているブランドをめぐる疑問を教
 授にぶつけてその答えをじかに聞くことにより、何か
 一つでも学びを持ち帰る機会にしたいと思います
  
 
 《講師》
 David Aakerカリフォルニア大学バークレー校ハ
 ース･スクール･オブ･ビジネス名誉教授
DTSTART:20201202T030000Z
DTEND:20201202T043000Z
DTSTAMP:20260422T180739Z
ORGANIZER;CN=公益社団法人日本マーケティング協会:MAILTO:aut
 o@jma-jp.org
END:VEVENT
END:VCALENDAR