BEGIN:VCALENDAR
VERSION:2.0
PRODID:Events Booking
BEGIN:VEVENT
UID:69ead1263caf0
SUMMARY:【ハイブリッド開催】経済アナリスト・消費経済
 アナリストが解説！2025年度の消費と金融のトレンド予
 測
DESCRIPTION:生活者へのアンケートデータを基に、2025年度
 の消費と金融のトレンドについて、消費経済アナリス
 ト「渡辺　広明 氏」と経済アナリスト「馬渕　磨理子 
 氏」にディスカッションいただきます。御社のマーケ
 ティングやビジネスを考えていくうえで有効な情報が
 きっと見つかるはずです。
LOCATION:日本、〒106-0032 東京都港区六本木３丁目５−２７
  六本木山田ビル ９F
DTSTART:20250422T040000Z
DTEND:20250422T053000Z
DTSTAMP:20211224T004553Z
ORGANIZER;CN=公益社団法人日本マーケティング協会:MAILTO:aut
 o@jma-jp.org
GEO:35.664342;139.735447
X-APPLE-STRUCTURED-LOCATION;VALUE=URI;X-ADDRESS=日本、〒106-0032 東京
 都港区六本木３丁目５−２７ 六本木山田ビル ９F;X-APPLE
 -RADIUS=72;X-TITLE=東京本部:35.664342;139.735447
END:VEVENT
END:VCALENDAR