BEGIN:VCALENDAR
VERSION:2.0
PRODID:Events Booking
BEGIN:VEVENT
UID:69e8fc1de56a8
SUMMARY:【ハイブリッド】ヘルスケアマーケティングの最
 新事例を学ぶ「ヘルスケアビジネス研究会」
DESCRIPTION:ー問われるエビデンス。 今後のヘルスケアビ
 ジネスは、どうなっていくのか？  ー 毎年ご好評をい
 ただいている「社会問題解決型BXセミナー」のうちテー
 マを特定の社会課題に限定した分科会。 本セミナーで
 は、「ヘルスケアビジネスの今日的論点」についての
 話題提供を皮切りに、ヘルスケアビジネスにおける　
 “生活者インサイト”“DATA×サービス”“事業開発”
 という視点から、いま注目を集めている企業からそれ
 ぞれの「課題認識」・「独自アプローチ」・「工夫」
 そして「これからのビジネス拡張に向けた想い」につ
 いて惜しみなくお話いただきます。 
 ■こんな人にお
 ススメ■ヘルスケアビジネス関連の新規事業の創出と
 、社会問題解決型ビジネスに関心のあるすべての方。
 部署、経験年数は不問です。
 「ヘルスケアインサイ
 トの今日的論点」と、ヘルスケアビジネス市場を牽引
 する代表企業３社による講演・ディスカッションでじ
 っくり学べます。 
  
LOCATION:日本、〒106-0032 東京都港区六本木３丁目５−２７
  六本木山田ビル ９F
DTSTART:20240719T040000Z
DTEND:20240719T090000Z
DTSTAMP:20211010T173638Z
ORGANIZER;CN=公益社団法人日本マーケティング協会:MAILTO:aut
 o@jma-jp.org
GEO:35.664342;139.735447
X-APPLE-STRUCTURED-LOCATION;VALUE=URI;X-ADDRESS=日本、〒106-0032 東京
 都港区六本木３丁目５−２７ 六本木山田ビル ９F;X-APPLE
 -RADIUS=72;X-TITLE=東京本部:35.664342;139.735447
END:VEVENT
END:VCALENDAR