BEGIN:VCALENDAR
VERSION:2.0
PRODID:Events Booking
BEGIN:VEVENT
UID:69ea38fb71825
SUMMARY:ビジネス英会話～マーケティングコース～ Business 
 Communication ＆ Marketing Course in English（全12回）
DESCRIPTION:ベーシックなマーケティングを英語で学ぶこと
 に加えて、マーケティング用語、業界においての適切
 な言い回し方、プレゼンテーションスキル等の英語で
 のコミュニケーション力アップを目的としています。
 週一回ではありますが、リラックスした雰囲気の中で
 楽しく学びビジネス英語力を養うことができます。更
 に、マーケティングを様々な角度・視点から、例えば
 、ブランド、デジタル、グローバルといった角度から
 見直したり、考えていくためのコースでもあります。
 講師には、マーケティング・ホスピタリティ分野での
 国際ビジネスのエキスパートであるKat Yamaguchi（山口克
 之氏）他３名の外国人マーケターをお迎えします。
 
 【こんな人におすすめ】✓海外でマーケターとして活
 躍したい人✓英語でのプレゼンテーション力を身に着
 けたい人✓マーケティング業務においての英語コミュ
 ニケーション力を向上したい人✓TOEIC 600点～850点程度
 を推奨、将来海外でマーケターとして活躍したい人
LOCATION:日本、〒106-0032 東京都港区六本木３丁目５−２７
  六本木山田ビル ９F
DTSTART:20250522T070000Z
DTEND:20250807T090000Z
DTSTAMP:20211010T173638Z
ORGANIZER;CN=公益社団法人日本マーケティング協会:MAILTO:aut
 o@jma-jp.org
GEO:35.664342;139.735447
X-APPLE-STRUCTURED-LOCATION;VALUE=URI;X-ADDRESS=日本、〒106-0032 東京
 都港区六本木３丁目５−２７ 六本木山田ビル ９F;X-APPLE
 -RADIUS=72;X-TITLE=東京本部:35.664342;139.735447
END:VEVENT
END:VCALENDAR